BEGIN:VCALENDAR
VERSION:2.0
PRODID:-//Beacon of Hope Inc - ECPv5.13.0//NONSGML v1.0//EN
CALSCALE:GREGORIAN
METHOD:PUBLISH
X-WR-CALNAME:Beacon of Hope Inc
X-ORIGINAL-URL:https://beaconofhopeinc.org
X-WR-CALDESC:Events for Beacon of Hope Inc
REFRESH-INTERVAL;VALUE=DURATION:PT1H
X-Robots-Tag:noindex
X-PUBLISHED-TTL:PT1H
BEGIN:VTIMEZONE
TZID:UTC
BEGIN:STANDARD
TZOFFSETFROM:+0000
TZOFFSETTO:+0000
TZNAME:UTC
DTSTART:20230101T000000
END:STANDARD
END:VTIMEZONE
BEGIN:VEVENT
DTSTART;TZID=UTC:20230907T110000
DTEND;TZID=UTC:20230910T190000
DTSTAMP:20260425T230408
CREATED:20220207T195019Z
LAST-MODIFIED:20230905T223128Z
UID:364-1694084400-1694372400@beaconofhopeinc.org
SUMMARY:RibFest @ Perry Square Park Erie PA
DESCRIPTION:COMMUNITY FELLOWSHIP!  \n\n\n\nFreedom Prayers & Gospel Tent Meeting. \n\n\n\nEveryone Welcome! Free event! \n\n\n\nPrayer Tent Times – 3:00 pm to 7:00 pm. \n\n\n\nSpeakers\n\n\n\nSunday @ 11:40am – Ken Traister \n\n\n\nWorship Leaders\n\n\n\nSunday @ 11 am – Michael Shreve \n\n\n\nParticipating Churches\n\n\n\n\n\nChurchAddress Phone Zip Website \n\n\n\n\n\nChurchAddress Phone Zip Website \n\n\n\n\n\nChurch Address Phone Zip Website
URL:https://beaconofhopeinc.org/event/test-2-6-7/
LOCATION:Perry Square Park Erie PA\, North Park Row & State St\, Erie\, Pennsylvania\, 16501\, United States
CATEGORIES:Tent Meeting
END:VEVENT
END:VCALENDAR