BEGIN:VCALENDAR
VERSION:2.0
PRODID:-//Beacon of Hope Inc - ECPv5.13.0//NONSGML v1.0//EN
CALSCALE:GREGORIAN
METHOD:PUBLISH
X-WR-CALNAME:Beacon of Hope Inc
X-ORIGINAL-URL:https://beaconofhopeinc.org
X-WR-CALDESC:Events for Beacon of Hope Inc
REFRESH-INTERVAL;VALUE=DURATION:PT1H
X-Robots-Tag:noindex
X-PUBLISHED-TTL:PT1H
BEGIN:VTIMEZONE
TZID:UTC
BEGIN:STANDARD
TZOFFSETFROM:+0000
TZOFFSETTO:+0000
TZNAME:UTC
DTSTART:20220101T000000
END:STANDARD
END:VTIMEZONE
BEGIN:VEVENT
DTSTART;TZID=UTC:20240622T130000
DTEND;TZID=UTC:20240622T190000
DTSTAMP:20260420T005303
CREATED:20220207T195019Z
LAST-MODIFIED:20240607T004904Z
UID:352-1719061200-1719082800@beaconofhopeinc.org
SUMMARY:Erie Fellowship Day
DESCRIPTION:2nd ANNUAL ERIE FELLOWSHIP DAY! \n\n\n\n@ Perry Square Park\, Erie PA \n\n\n\nGospel Tent Meeting \n\n\n\nEveryone Welcome! Free event! \n\n\n\nMeeting Time – 1:00 pm to 7:00 pm \n\n\n\nSpeakers\n\n\n\nMinister Ken TraisterPasto Anita McCoyPastor Dan Simonsen \n\n\n\n \n\n\n\nWorship Scott JonesCrowns of GoldUnion City First Assembly WorshipMichael Shreve and The Way\n\n\n\n \n\n\n\nParticipating Churches & Businesses \n\n\n\n\n\nVictorious Life Church7686 W. Ridge Rd.Fairview\, PA  \n\n\n\n\n\nPapa’s Workshop5120 Grubb Rd. Erie\, PA 16506 \n\n\n\n\n\nField of Dreams Harvest Ministries1236 French St.Erie\, PA 16501www.eriehealingclinic.com
URL:https://beaconofhopeinc.org/event/test-2-6-4/
LOCATION:Perry Square Park\, N. Park Row & State St.\, Erie\, Pennsylvania\, United States
CATEGORIES:Tent Meeting
END:VEVENT
BEGIN:VEVENT
DTSTART;TZID=UTC:20240529T110000
DTEND;TZID=UTC:20240601T190000
DTSTAMP:20260420T005303
CREATED:20220207T195019Z
LAST-MODIFIED:20240318T001156Z
UID:414-1716980400-1717268400@beaconofhopeinc.org
SUMMARY:RibFest @ Perry Square Park Erie PA
DESCRIPTION:COMMUNITY FELLOWSHIP!  \n\n\n\nFreedom Prayer Tent \n\n\n\nEveryone Welcome!  \n\n\n\nPrayer Tent Times – 1:00 pm to 7:00 pm. \n\n\n\nSpeakers\n\n\n\nWorship Leaders\n\n\n\n \n\n\n\nParticipating Churches\n\n\n\n\n\nChurchAddress Phone Zip Website \n\n\n\n\n\nChurchAddress Phone Zip Website \n\n\n\n\n\nChurch Address Phone Zip Website
URL:https://beaconofhopeinc.org/event/test-2-6-7-2/
LOCATION:Perry Square Park Erie PA\, North Park Row & State St\, Erie\, Pennsylvania\, 16501\, United States
CATEGORIES:Tent Meeting
END:VEVENT
BEGIN:VEVENT
DTSTART;TZID=UTC:20230907T110000
DTEND;TZID=UTC:20230910T190000
DTSTAMP:20260420T005303
CREATED:20220207T195019Z
LAST-MODIFIED:20230905T223128Z
UID:364-1694084400-1694372400@beaconofhopeinc.org
SUMMARY:RibFest @ Perry Square Park Erie PA
DESCRIPTION:COMMUNITY FELLOWSHIP!  \n\n\n\nFreedom Prayers & Gospel Tent Meeting. \n\n\n\nEveryone Welcome! Free event! \n\n\n\nPrayer Tent Times – 3:00 pm to 7:00 pm. \n\n\n\nSpeakers\n\n\n\nSunday @ 11:40am – Ken Traister \n\n\n\nWorship Leaders\n\n\n\nSunday @ 11 am – Michael Shreve \n\n\n\nParticipating Churches\n\n\n\n\n\nChurchAddress Phone Zip Website \n\n\n\n\n\nChurchAddress Phone Zip Website \n\n\n\n\n\nChurch Address Phone Zip Website
URL:https://beaconofhopeinc.org/event/test-2-6-7/
LOCATION:Perry Square Park Erie PA\, North Park Row & State St\, Erie\, Pennsylvania\, 16501\, United States
CATEGORIES:Tent Meeting
END:VEVENT
BEGIN:VEVENT
DTSTART;TZID=UTC:20230812T150000
DTEND;TZID=UTC:20230812T190000
DTSTAMP:20260420T005303
CREATED:20220207T195019Z
LAST-MODIFIED:20230313T192048Z
UID:360-1691852400-1691866800@beaconofhopeinc.org
SUMMARY:Roger Young Park Erie PA
DESCRIPTION:COMMUNITY FELLOWSHIP!  \n\n\n\nGospel Tent Meetings. \n\n\n\nEveryone Welcome! Free event! \n\n\n\nTentative Meeting Time – 3:00 pm to 7:00 pm. \n\n\n\nSpeakers\n\n\n\nTBA \n\n\n\nWorship Leaders\n\n\n\nTBA \n\n\n\nParticipating Churches\n\n\n\n\n\nChurchAddress Phone Zip Website \n\n\n\n\n\nChurchAddress Phone Zip Website \n\n\n\n\n\nChurch Address Phone Zip Website
URL:https://beaconofhopeinc.org/event/test-2-6-6/
LOCATION:Rodger Young Park\, Buffalo Rd. & Downing Ave.\, Erie\, Pennsylvania\, United States
CATEGORIES:Tent Meeting
END:VEVENT
BEGIN:VEVENT
DTSTART;TZID=UTC:20230722T150000
DTEND;TZID=UTC:20230722T190000
DTSTAMP:20260420T005303
CREATED:20220207T195019Z
LAST-MODIFIED:20230313T191633Z
UID:356-1690038000-1690052400@beaconofhopeinc.org
SUMMARY:Franklin Park Erie PA
DESCRIPTION:COMMUNITY FELLOWSHIP!  \n\n\n\nGospel Tent Meetings. \n\n\n\nEveryone Welcome! Free event! \n\n\n\nTentative Meeting Time – 3:00 pm to 7:00 pm. \n\n\n\nSpeakers\n\n\n\nTBA \n\n\n\nWorship Leaders\n\n\n\nTBA \n\n\n\nParticipating Churches\n\n\n\n\n\nChurchAddress Phone Zip Website \n\n\n\n\n\nChurchAddress Phone Zip Website \n\n\n\n\n\nChurch Address Phone Zip Website
URL:https://beaconofhopeinc.org/event/test-2-6-5/
LOCATION:Franklin Park\, E. 7th & Marne Rd.\, Erie\, Pennsylvania\, United States
CATEGORIES:Tent Meeting
END:VEVENT
BEGIN:VEVENT
DTSTART;TZID=UTC:20230610T150000
DTEND;TZID=UTC:20230610T190000
DTSTAMP:20260420T005303
CREATED:20220207T195019Z
LAST-MODIFIED:20230610T093435Z
UID:348-1686409200-1686423600@beaconofhopeinc.org
SUMMARY:Gridley Park Erie PA
DESCRIPTION:COMMUNITY FELLOWSHIP!  \n\n\n\nGospel Tent Meetings. \n\n\n\nEveryone Welcome! Free event! \n\n\n\nTentative Meeting Time – 3:00 pm to 7:00 pm. \n\n\n\nSpeakers\n\n\n\nTBA \n\n\n\nWorship Leaders\n\n\n\nTBA \n\n\n\nParticipating Churches\n\n\n\n\n\nSalvation Ministries2249 W 38th St.Erie\, PA  16506814-920-3996 \n\n\n\n\n\nApostolic Faith Church930 Liberty St.Erie\, PA16502 814-825-7102 \n\n\n\n\n\nPapa’s Workshop 5120 Grubb Rd. Erie PA16506
URL:https://beaconofhopeinc.org/event/test-2-6-3/
LOCATION:Gridley Park\, Park Ave & Liberty St.\, Erie\, Pennsylvania\, United States
CATEGORIES:Tent Meeting
END:VEVENT
BEGIN:VEVENT
DTSTART;TZID=UTC:20230520T150000
DTEND;TZID=UTC:20230520T190000
DTSTAMP:20260420T005303
CREATED:20220207T195019Z
LAST-MODIFIED:20230313T192443Z
UID:344-1684594800-1684609200@beaconofhopeinc.org
SUMMARY:Pulaski Park Erie PA
DESCRIPTION:COMMUNITY FELLOWSHIP!  \n\n\n\nGospel Tent Meetings. \n\n\n\nEveryone Welcome! Free event! \n\n\n\nTentative Meeting Time – 3:00 pm to 7:00 pm. \n\n\n\nSpeakers\n\n\n\nTBA \n\n\n\nWorship Leaders\n\n\n\nTBA \n\n\n\nParticipating Churches\n\n\n\n\n\nChurchAddress Phone Zip Website \n\n\n\n\n\nChurchAddress Phone Zip Website \n\n\n\n\n\nChurch Address Phone Zip Website
URL:https://beaconofhopeinc.org/event/test-2-6-2/
LOCATION:Pulaski Park\, E. 10th & Brandes St.\, Erie\, Pennsylvania\, United States
CATEGORIES:Tent Meeting
END:VEVENT
BEGIN:VEVENT
DTSTART;TZID=UTC:20230429T150000
DTEND;TZID=UTC:20230429T190000
DTSTAMP:20260420T005303
CREATED:20220207T195019Z
LAST-MODIFIED:20230427T180635Z
UID:211-1682780400-1682794800@beaconofhopeinc.org
SUMMARY:Washington Park Erie PA
DESCRIPTION:COMMUNITY FELLOWSHIP DAY!  \n\n\n\nGospel Tent Meetings \n\n\n\nLocal musicians \n\n\n\nPicnic food and Ice cream \n\n\n\nEveryone Welcome. Free event! \n\n\n\nMeeting Time – 3:00 pm to 7:00 pm. \n\n\n\nSpeakers\n\n\n\nPastor Mark Warszawski \n\n\n\nPastor Adam Blazek \n\n\n\nWorship Leaders\n\n\n\nBrad Eanes \n\n\n\nErie First Youth Band \n\n\n\nSaved By Grace \n\n\n\nParticipating Churches\n\n\n\n\n\nChristian Assembly Church2417 Liberty St. Erie PA814-459-8196 16502 www.christianassemblyerie.org \n\n\n\n\n\nChurchAddress Phone Zip Website \n\n\n\n\n\nChurch Address Phone Zip Website
URL:https://beaconofhopeinc.org/event/test-2-6/
LOCATION:Washington Park\, West 24th & Cascade St.\, Erie\, Pennsylvania\, United States
CATEGORIES:Tent Meeting
END:VEVENT
BEGIN:VEVENT
DTSTART;TZID=UTC:20230331T183000
DTEND;TZID=UTC:20230401T213000
DTSTAMP:20260420T005303
CREATED:20220207T195019Z
LAST-MODIFIED:20230316T181319Z
UID:148-1680287400-1680384600@beaconofhopeinc.org
SUMMARY:Training @ The Summit
DESCRIPTION:Sessions on Hearing God’s Voice\, Biblical Basis for Healing\,  \n\n\n\nWords of Knowledge and Community Outreach. \n\n\n\nSpeakers\n\n\n\nLeaders from Global Awakening For more information go to: Healing and Revival Ministry Founded by Randy Clark – Global Awakening \n\n\n\nTraining sessions and times\n\n\n\nFriday – March 31st     \n\n\n\n                        (6:30 PM) – Worship \n\n\n\n                        (7:00 PM) – 5-Step Prayer Model/BB for Healing \n\n\n\n                        (8:00 PM) – Healing Service – team ministering \n\n\n\nSaturday – April 1st  \n\n\n\n                        (9:30 AM) – Worship \n\n\n\n                        (10:00 AM) – Hear God’s Voice \n\n\n\n                        (11:00 AM) – Words of Knowledge \n\n\n\n    **LUNCH** (12 – 2 PM) (Lunch Not Provided) \n\n\n\n                        (2:00 PM) – Emotional Healing \n\n\n\n                        (3:00 PM) – Deliverance \n\n\n\n                        (4:00 PM) – Outreach Training \n\n\n\n   **DINNER** (5 – 7 PM) – teams on outreach (Dinner Not Provided) \n\n\n\n                        (7:00 PM) – Outreach Testimonies \n\n\n\n                        (7:30 PM) – Prophetic Protocal \n\n\n\n                        (8:30 PM) – Impartation Service – student preaching \n\n\n\nSunday – Apr. 2nd  \n\n\n\n                        (10 AM) – Service @ Hope Assembly in Waterford\, PA (Sparrow Pond Campground) \n\n\n\nParticipants\n\n\n\n\n\nEveryone welcome to attend. \n\n\n\nPlease register or contact us so we can plan for your attendance. \n\n\n\nClick Here to Register
URL:https://beaconofhopeinc.org/event/test-2-2/
LOCATION:Outreach and Altar Worker Training @ The Summit\, 8160 Oliver Rd.\, Erie\, Pa\, 16509
CATEGORIES:Training
END:VEVENT
BEGIN:VEVENT
DTSTART;TZID=UTC:20220715T000000
DTEND;TZID=UTC:20220717T235959
DTSTAMP:20260420T005303
CREATED:20220207T195019Z
LAST-MODIFIED:20220524T133840Z
UID:208-1657843200-1658102399@beaconofhopeinc.org
SUMMARY:Fairview PA
DESCRIPTION:Come to the Light! Tent Crusade. \n\n\n\nTentative Meeting Times – 6:30 pm to 10:00 pm every evening. \n\n\n\nSpeakers\n\n\n\nTBA \n\n\n\nWorship Leaders\n\n\n\nTBA \n\n\n\nParticipating Churches\n\n\n\n\n\nChurchAddress Phone Zip Website \n\n\n\n\n\nChurchAddress Phone Zip Website \n\n\n\n\n\nChurch Address Phone Zip Website
URL:https://beaconofhopeinc.org/event/test-2-5/
LOCATION:Fairview Buisness Park\, Klier Dr.\, Fairview\, PA\, 16415\, United States
CATEGORIES:Tent Meeting
END:VEVENT
BEGIN:VEVENT
DTSTART;TZID=UTC:20220610T000000
DTEND;TZID=UTC:20220612T235959
DTSTAMP:20260420T005303
CREATED:20220207T195019Z
LAST-MODIFIED:20220524T133644Z
UID:205-1654819200-1655078399@beaconofhopeinc.org
SUMMARY:North East PA
DESCRIPTION:Come to the Light! Tent Crusade. \n\n\n\nTentative Meeting Times – 6:30pm to 10:00pm every evening. \n\n\n\nSpeakers\n\n\n\nTBA \n\n\n\nWorship Leaders\n\n\n\nJune 10th – Erie First WorshipJune 11th – Erie First WorshipJune 12Th – 814 \n\n\n\nParticipating Churches\n\n\n\n\n\nChurchAddress Phone Zip Website \n\n\n\n\n\nChurchAddress Phone Zip Website \n\n\n\n\n\nChurch Address Phone Zip Website
URL:https://beaconofhopeinc.org/event/test-2-4/
LOCATION:Heard Park\, 44 N. Lake St.\, North East\, Pennsylvania\, 16428\, United States
CATEGORIES:Tent Meeting
END:VEVENT
BEGIN:VEVENT
DTSTART;TZID=UTC:20220513T000000
DTEND;TZID=UTC:20220515T235959
DTSTAMP:20260420T005303
CREATED:20220207T195019Z
LAST-MODIFIED:20220328T171906Z
UID:199-1652400000-1652659199@beaconofhopeinc.org
SUMMARY:Waterford PA
DESCRIPTION:Come to the Light! Gospel Tent Meetings. \n\n\n\nTentative Meeting Times – 6:30pm to 10:00pm every evening.\n\n\n\nSpeakers\n\n\n\nTBA \n\n\n\nWorship Leaders\n\n\n\nFriday May 13th – InnercircleSaturday May 14th – InnercircleSunday May 15th – 814 \n\n\n\nParticipating Churches\n\n\n\n\n\n ChurchAddress Phone Zip Website \n\n\n\n\n\n ChurchAddress Phone Zip Website \n\n\n\n\n\n Church Address Phone Zip Website
URL:https://beaconofhopeinc.org/event/test-2-3/
LOCATION:Waterford Ball Field\, 25 S Park Row\, Waterford\, PA\, 16441\, United States
CATEGORIES:Tent Meeting
END:VEVENT
END:VCALENDAR